BEGIN:VCALENDAR
VERSION:2.0
PRODID:-//wp-events-plugin.com//7.2.3.1//EN
TZID:Europe/Paris
X-WR-TIMEZONE:Europe/Paris
BEGIN:VEVENT
UID:11678@agenda24.fr
DTSTART;TZID=Europe/Paris:20260301T093000
DTEND;TZID=Europe/Paris:20260301T123000
DTSTAMP:20260301T135049Z
URL:https://agenda24.fr/evenements/atelier-reveil-energetique/
SUMMARY:Atelier réveil énergétique
DESCRIPTION: L’association Éveil du Souffle propose un atelier réveil 
 énergétique pour bien vivre la saison Printemps.\n\nAnne Albaret\, prati
 cienne Shiatsu et Fanny Chatrusse\, enseignante certifiée de Yoga\, anime
 ront cet atelier autour de l'automassage Do In et yoga de l'énergie.\n\nU
 ne belle occasion de découvrir les activités proposées par l’associat
 ion !\nSur inscription.
CATEGORIES:Atelier / Stage
LOCATION:Salle du couvent\, 31 Rue du Couvent\, Eymet\, France
GEO:44.66748;0.39869
X-APPLE-STRUCTURED-LOCATION;VALUE=URI;X-ADDRESS=31 Rue du Couvent\, Eymet\,
  France;X-APPLE-RADIUS=100;X-TITLE=Salle du couvent:geo:44.66748,0.39869
END:VEVENT
BEGIN:VTIMEZONE
TZID:Europe/Paris
X-LIC-LOCATION:Europe/Paris
BEGIN:STANDARD
DTSTART:20251026T020000
TZOFFSETFROM:+0200
TZOFFSETTO:+0100
TZNAME:CET
END:STANDARD
END:VTIMEZONE
END:VCALENDAR