BEGIN:VCALENDAR
VERSION:2.0
PRODID:-//wp-events-plugin.com//7.2.3.1//EN
TZID:Europe/Paris
X-WR-TIMEZONE:Europe/Paris
BEGIN:VEVENT
UID:3839@agenda24.fr
DTSTART;TZID=Europe/Paris:20241113T103000
DTEND;TZID=Europe/Paris:20241113T120000
DTSTAMP:20241030T085702Z
URL:https://agenda24.fr/evenements/atelier-pour-artiste-en-herbe-compositi
 on-dune-peinture/
SUMMARY:Atelier pour artiste en herbe - composition d'une peinture
DESCRIPTION:
CATEGORIES:Dédié aux enfants
LOCATION:Dordonha\, Place de la Petite Mission\, Bergerac\, France
GEO:44.8511974;0.48306451
X-APPLE-STRUCTURED-LOCATION;VALUE=URI;X-ADDRESS=Place de la Petite Mission\
 , Bergerac\, France;X-APPLE-RADIUS=100;X-TITLE=Dordonha:geo:44.8511974,0.4
 8306451
END:VEVENT
BEGIN:VTIMEZONE
TZID:Europe/Paris
X-LIC-LOCATION:Europe/Paris
BEGIN:STANDARD
DTSTART:20241027T020000
TZOFFSETFROM:+0200
TZOFFSETTO:+0100
TZNAME:CET
END:STANDARD
END:VTIMEZONE
END:VCALENDAR