BEGIN:VCALENDAR
VERSION:2.0
PRODID:-//wp-events-plugin.com//7.2.3.1//EN
TZID:Europe/Paris
X-WR-TIMEZONE:Europe/Paris
BEGIN:VEVENT
UID:11693@agenda24.fr
DTSTART;TZID=Europe/Paris:20260304T100000
DTEND;TZID=Europe/Paris:20260304T113000
DTSTAMP:20260301T135049Z
URL:https://agenda24.fr/evenements/atelier-peinture-aux-doigts/
SUMMARY:Atelier « Peinture aux doigts »
DESCRIPTION:Sur inscription\, à partir de 2 ans \n\n\n\n\n\n\n\n
CATEGORIES:Atelier / Stage
LOCATION:Salle du périscolaire\, 1 Place Basbayon\, Negrondes\, France
GEO:45.3465401;0.8675836
X-APPLE-STRUCTURED-LOCATION;VALUE=URI;X-ADDRESS=1 Place Basbayon\, Negronde
 s\, France;X-APPLE-RADIUS=100;X-TITLE=Salle du périscolaire:geo:45.346540
 1,0.8675836
END:VEVENT
BEGIN:VTIMEZONE
TZID:Europe/Paris
X-LIC-LOCATION:Europe/Paris
BEGIN:STANDARD
DTSTART:20251026T020000
TZOFFSETFROM:+0200
TZOFFSETTO:+0100
TZNAME:CET
END:STANDARD
END:VTIMEZONE
END:VCALENDAR