BEGIN:VCALENDAR
VERSION:2.0
PRODID:-//wp-events-plugin.com//7.2.3.1//EN
TZID:Europe/Paris
X-WR-TIMEZONE:Europe/Paris
BEGIN:VEVENT
UID:4072@agenda24.fr
DTSTART;TZID=Europe/Paris:20241203T100000
DTEND;TZID=Europe/Paris:20241203T120000
DTSTAMP:20241030T091122Z
URL:https://agenda24.fr/evenements/atelier-parole-ce-qui-se-dit-ici-reste-
 ici-2/
SUMMARY:Atelier parole - Ce qui se dit ici\, reste ici !
DESCRIPTION:
CATEGORIES:Atelier / Stage
LOCATION:Bibliothèque\, 56 Grand Rue\, Creysse\, France
GEO:44.85518;0.56563
X-APPLE-STRUCTURED-LOCATION;VALUE=URI;X-ADDRESS=56 Grand Rue\, Creysse\, Fr
 ance;X-APPLE-RADIUS=100;X-TITLE=Bibliothèque:geo:44.85518,0.56563
END:VEVENT
BEGIN:VTIMEZONE
TZID:Europe/Paris
X-LIC-LOCATION:Europe/Paris
BEGIN:STANDARD
DTSTART:20241027T020000
TZOFFSETFROM:+0200
TZOFFSETTO:+0100
TZNAME:CET
END:STANDARD
END:VTIMEZONE
END:VCALENDAR