BEGIN:VCALENDAR
VERSION:2.0
PRODID:-//wp-events-plugin.com//7.2.3.1//EN
TZID:Europe/Paris
X-WR-TIMEZONE:Europe/Paris
BEGIN:VEVENT
UID:4059@agenda24.fr
DTSTART;TZID=Europe/Paris:20241128T100000
DTEND;TZID=Europe/Paris:20241128T113000
DTSTAMP:20241030T091130Z
URL:https://agenda24.fr/evenements/atelier-memoire-7/
SUMMARY:Atelier mémoire
DESCRIPTION:
CATEGORIES:Atelier / Stage
LOCATION:Espace socioculturel Le Ruban vert\, 5\, place de la jeunesse\, Br
 antôme\, France
GEO:45.4502975;0.45087509
X-APPLE-STRUCTURED-LOCATION;VALUE=URI;X-ADDRESS=5\, place de la jeunesse\, 
 Brantôme\, France;X-APPLE-RADIUS=100;X-TITLE=Espace socioculturel Le Ruba
 n vert:geo:45.4502975,0.45087509
END:VEVENT
BEGIN:VTIMEZONE
TZID:Europe/Paris
X-LIC-LOCATION:Europe/Paris
BEGIN:STANDARD
DTSTART:20241027T020000
TZOFFSETFROM:+0200
TZOFFSETTO:+0100
TZNAME:CET
END:STANDARD
END:VTIMEZONE
END:VCALENDAR