BEGIN:VCALENDAR
VERSION:2.0
PRODID:-//wp-events-plugin.com//7.2.3.1//EN
TZID:Europe/Paris
X-WR-TIMEZONE:Europe/Paris
BEGIN:VEVENT
UID:11679@agenda24.fr
DTSTART;TZID=Europe/Paris:20260301T143000
DTEND;TZID=Europe/Paris:20260301T173000
DTSTAMP:20260301T135049Z
URL:https://agenda24.fr/evenements/atelier-mecameuf/
SUMMARY:Atelier Mécameuf
DESCRIPTION:L’atelier Mécameufs (en mixité choisie) de 14h à 17h le di
 manche. Il est proposé par Juliette et animé par Raymond (parce que le f
 éminisme\, c’est l’affaire de tous).\n\nL’atelier est ouvert à tou
 tes et à tous\, sauf à ceux qui ont déjà l’habitude de bricoler leur
  automobile eux-mêmes.\n\nSi tu as une voiture\, que la mécanique ne cou
 le pas dans tes veines\, mais que tu souhaites apprendre les bases de la m
 éca sur voiture\, théorie et pratique ? viens.\n\nUn moment détendu où
  il est conseillé de poser des questions. Des bénévoles hyper sympas et
  des outils très performants (ça marche aussi dans l’autre sens) seron
 t là pour vous aider à vous émanciper de votre garagiste.
CATEGORIES:Atelier / Stage
LOCATION:Tiers lieu Le Sonneur\, 213D rue du Bourdon des Pèlerins\, Saint-
 Pierre-de-Frugie\, France
GEO:45.5734184;0.99831609
X-APPLE-STRUCTURED-LOCATION;VALUE=URI;X-ADDRESS=213D rue du Bourdon des Pè
 lerins\, Saint-Pierre-de-Frugie\, France;X-APPLE-RADIUS=100;X-TITLE=Tiers 
 lieu Le Sonneur:geo:45.5734184,0.99831609
END:VEVENT
BEGIN:VTIMEZONE
TZID:Europe/Paris
X-LIC-LOCATION:Europe/Paris
BEGIN:STANDARD
DTSTART:20251026T020000
TZOFFSETFROM:+0200
TZOFFSETTO:+0100
TZNAME:CET
END:STANDARD
END:VTIMEZONE
END:VCALENDAR