BEGIN:VCALENDAR
VERSION:2.0
PRODID:-//wp-events-plugin.com//7.2.3.1//EN
TZID:Europe/Paris
X-WR-TIMEZONE:Europe/Paris
BEGIN:VEVENT
UID:4063@agenda24.fr
DTSTART;TZID=Europe/Paris:20241121T100000
DTEND;TZID=Europe/Paris:20241121T110000
DTSTAMP:20241030T091130Z
URL:https://agenda24.fr/evenements/atelier-intergenerationnel/
SUMMARY:Atelier intergénérationnel
DESCRIPTION:
CATEGORIES:Atelier / Stage
LOCATION:La Passerelle\, La Passerelle\, Brantôme\, France
GEO:45.3595494;0.65464370
X-APPLE-STRUCTURED-LOCATION;VALUE=URI;X-ADDRESS=La Passerelle\, Brantôme\,
  France;X-APPLE-RADIUS=100;X-TITLE=La Passerelle:geo:45.3595494,0.65464370
END:VEVENT
BEGIN:VTIMEZONE
TZID:Europe/Paris
X-LIC-LOCATION:Europe/Paris
BEGIN:STANDARD
DTSTART:20241027T020000
TZOFFSETFROM:+0200
TZOFFSETTO:+0100
TZNAME:CET
END:STANDARD
END:VTIMEZONE
END:VCALENDAR