BEGIN:VCALENDAR
VERSION:2.0
PRODID:-//wp-events-plugin.com//7.2.3.1//EN
TZID:Europe/Paris
X-WR-TIMEZONE:Europe/Paris
BEGIN:VEVENT
UID:8367@agenda24.fr
DTSTART;TZID=Europe/Paris:20250928T100000
DTEND;TZID=Europe/Paris:20250928T180000
DTSTAMP:20250911T090245Z
URL:https://agenda24.fr/evenements/atelier-educ-pop-instaurer-une-culture-
 de-soin-dans-nos-collectifs/
SUMMARY:Atelier éduc pop :  Instaurer une culture de soin dans nos collect
 ifs
DESCRIPTION:Nos pires adversaires sont souvent… nous même. La flamme de 
 nos collectifs peut s’éteindre prématurément par les conflits interne
 s mal traités\, par épuisement dû au manque de rotation des tâches et 
 de respirations collectives\, par des comportements internes oppressifs qu
 i blessent nos relations…\nDans cette journée\, nous verrons donc comme
 nt anticiper collectivement ces risques. Comment créer de la place aux co
 nflits pour en faire une source de transformation ? Comment faire tourner 
 les responsabilités et varier les rythmes pour garder l’énergie ? Comm
 ent nourrir des relations soutenantes.\n\nMerci de vous inscrire pour que 
 nous connaissions le nombre de participant-es et vous envoyer le lieu.\n\n
 Un atelier organisé par le collectif d'éducation populaire La Frontale :
  lafrontale.org
CATEGORIES:Atelier / Stage,Militant
LOCATION:Périgueux\, A confirmer\, Sur inscription\, 24000\, France
X-APPLE-STRUCTURED-LOCATION;VALUE=URI;X-ADDRESS=A confirmer\, Sur inscripti
 on\, 24000\, France;X-APPLE-RADIUS=100;X-TITLE=Périgueux:geo:0,0
END:VEVENT
BEGIN:VTIMEZONE
TZID:Europe/Paris
X-LIC-LOCATION:Europe/Paris
BEGIN:DAYLIGHT
DTSTART:20250330T030000
TZOFFSETFROM:+0100
TZOFFSETTO:+0200
TZNAME:CEST
END:DAYLIGHT
END:VTIMEZONE
END:VCALENDAR