BEGIN:VCALENDAR
VERSION:2.0
PRODID:-//wp-events-plugin.com//7.2.3.1//EN
TZID:Europe/Paris
X-WR-TIMEZONE:Europe/Paris
BEGIN:VEVENT
UID:4065@agenda24.fr
DTSTART;TZID=Europe/Paris:20241116T140000
DTEND;TZID=Europe/Paris:20241116T160000
DTSTAMP:20241030T091130Z
URL:https://agenda24.fr/evenements/atelier-ecriture-6/
SUMMARY:Atelier écriture
DESCRIPTION:
CATEGORIES:Atelier / Stage
LOCATION:Médiathèque\, rue Alfredo Reynaud\, Saint-Pardoux-La-Riviere\, F
 rance
GEO:45.4923390;0.7441770
X-APPLE-STRUCTURED-LOCATION;VALUE=URI;X-ADDRESS=rue Alfredo Reynaud\, Saint
 -Pardoux-La-Riviere\, France;X-APPLE-RADIUS=100;X-TITLE=Médiathèque:geo:
 45.4923390,0.7441770
END:VEVENT
BEGIN:VTIMEZONE
TZID:Europe/Paris
X-LIC-LOCATION:Europe/Paris
BEGIN:STANDARD
DTSTART:20241027T020000
TZOFFSETFROM:+0200
TZOFFSETTO:+0100
TZNAME:CET
END:STANDARD
END:VTIMEZONE
END:VCALENDAR