BEGIN:VCALENDAR
VERSION:2.0
PRODID:-//wp-events-plugin.com//7.2.3.1//EN
TZID:Europe/Paris
X-WR-TIMEZONE:Europe/Paris
BEGIN:VEVENT
UID:11690@agenda24.fr
DTSTART;TZID=Europe/Paris:20260304T140000
DTEND;TZID=Europe/Paris:20260304T140000
DTSTAMP:20260301T135049Z
URL:https://agenda24.fr/evenements/atelier-diy-mon-1er-savon-ou-cosmetique
 s-au-naturel-en-fonction-des-demandes/
SUMMARY:Atelier DIY « Mon 1er savon » ou « Cosmétiques au naturel » (E
 n fonction  des demandes)
DESCRIPTION:« Mon 1er savon » : Réalisation d’un pain de savon 500gr s
 elon la méthode de saponification à froid.  A partir de 7 ans. \nou \n«
  Cosmétiques au naturel » : Fabrication de 2 produits cosmétiques natur
 els (ex : déo\, baume à lèvres\, huile corporelle\, sels exfoliants). A
  partir de 7 ans.
CATEGORIES:Atelier / Stage
LOCATION:Atelier de Bélène\, 184 route de la petite pouge\, Saint-Paul-La
 -Roche\, France
GEO:45.4656104;0.9529300
X-APPLE-STRUCTURED-LOCATION;VALUE=URI;X-ADDRESS=184 route de la petite poug
 e\, Saint-Paul-La-Roche\, France;X-APPLE-RADIUS=100;X-TITLE=Atelier de Bé
 lène:geo:45.4656104,0.9529300
END:VEVENT
BEGIN:VTIMEZONE
TZID:Europe/Paris
X-LIC-LOCATION:Europe/Paris
BEGIN:STANDARD
DTSTART:20251026T020000
TZOFFSETFROM:+0200
TZOFFSETTO:+0100
TZNAME:CET
END:STANDARD
END:VTIMEZONE
END:VCALENDAR