BEGIN:VCALENDAR
VERSION:2.0
PRODID:-//wp-events-plugin.com//7.2.3.1//EN
TZID:Europe/Paris
X-WR-TIMEZONE:Europe/Paris
BEGIN:VEVENT
UID:8369@agenda24.fr
DTSTART;TZID=Europe/Paris:20251113T180000
DTEND;TZID=Europe/Paris:20251113T210000
DTSTAMP:20250911T090414Z
URL:https://agenda24.fr/evenements/atelier-deduc-pop-decouvrir-un-outil-de
 ducation-populaire-petite-histoire-grande-histoire/
SUMMARY:Atelier d'éduc pop : Découvrir un outil d’éducation populaire 
 : Petite Histoire Grande Histoire
DESCRIPTION:Petite Histoire Grande Histoire (PHGH de son ptit nom)\, c’es
 t un classique en éduc pop. En invitant les participant-es à partager qu
 elles dates de la Grande histoires et de nos histoires personnelles nous o
 nt construit\, cet outil permet de montrer là où nos vécus se croisent\
 , s’écartent\, quelles valeurs nous guident.\n\nOn testera l’outil en
 semble\, et on discutera de ses usages possibles pour construire des colle
 ctifs soudés autours de valeurs et d’expériences partagées.\n\nMerci 
 de vous inscrire pour recevoir le lieu de l'atelier et nous permettre de c
 onnaitre en avance le nombre de participant-es.\n\nCet atelier est organis
 é par le collectif d'éduc pop La Frontale : lafrontale.org\n\n&nbsp\;
CATEGORIES:Atelier / Stage,Militant
LOCATION:Périgueux\, A confirmer\, sur inscription\, 24000\, France
X-APPLE-STRUCTURED-LOCATION;VALUE=URI;X-ADDRESS=A confirmer\, sur inscripti
 on\, 24000\, France;X-APPLE-RADIUS=100;X-TITLE=Périgueux:geo:0,0
END:VEVENT
BEGIN:VTIMEZONE
TZID:Europe/Paris
X-LIC-LOCATION:Europe/Paris
BEGIN:STANDARD
DTSTART:20251026T020000
TZOFFSETFROM:+0200
TZOFFSETTO:+0100
TZNAME:CET
END:STANDARD
END:VTIMEZONE
END:VCALENDAR