BEGIN:VCALENDAR
VERSION:2.0
PRODID:-//wp-events-plugin.com//7.2.3.1//EN
TZID:Europe/Paris
X-WR-TIMEZONE:Europe/Paris
BEGIN:VEVENT
UID:8368@agenda24.fr
DTSTART;TZID=Europe/Paris:20251016T180000
DTEND;TZID=Europe/Paris:20251016T210000
DTSTAMP:20250911T090344Z
URL:https://agenda24.fr/evenements/atelier-deduc-pop-construire-des-reunio
 ns-pas-reloues/
SUMMARY:Atelier d'éduc pop : Construire des réunions pas reloues
DESCRIPTION:On a toustes 1000 anecdotes de réunions interminables\, où on
  parle des heures sans que rien n’avance\, où les nouveaux arrivants so
 nt largués et repartent sans jamais revenir\, et où les anciens se deman
 dent pourquoi ils-elles restent entre elleux. C’est drôle avec le recul
 \, mais c’est l’ENFER sur le moment (sauf pour les gens qui adoooorent
  s’écouter parler\, suivez mon regard les vieux mecs blancs).\nOn parta
 gera donc plein de ressources pour préparer nos réunions en amont\, les 
 rendre plus stimulantes\, et aussi se demander : au fond\, à quoi ça ser
 t\, les réunions ?\n\nMerci de vous inscrire pour recevoir le lieu de l'a
 telier et nous permettre de connaitre le nombre de participant-es.\n\nCet 
 atelier est organisé par le collectif d'éduc pop La Frontale : lafrontal
 e.org\n\n&nbsp\;
CATEGORIES:Atelier / Stage,Militant
LOCATION:Périgueux\, A confirmer\, sur inscription\, 24000\, France
X-APPLE-STRUCTURED-LOCATION;VALUE=URI;X-ADDRESS=A confirmer\, sur inscripti
 on\, 24000\, France;X-APPLE-RADIUS=100;X-TITLE=Périgueux:geo:0,0
END:VEVENT
BEGIN:VTIMEZONE
TZID:Europe/Paris
X-LIC-LOCATION:Europe/Paris
BEGIN:DAYLIGHT
DTSTART:20250330T030000
TZOFFSETFROM:+0100
TZOFFSETTO:+0200
TZNAME:CEST
END:DAYLIGHT
END:VTIMEZONE
END:VCALENDAR