BEGIN:VCALENDAR
VERSION:2.0
PRODID:-//wp-events-plugin.com//7.2.3.1//EN
TZID:Europe/Paris
X-WR-TIMEZONE:Europe/Paris
BEGIN:VEVENT
UID:11689@agenda24.fr
DTSTART;TZID=Europe/Paris:20260304T160000
DTEND;TZID=Europe/Paris:20260304T180000
DTSTAMP:20260301T135049Z
URL:https://agenda24.fr/evenements/atelier-decriture-9/
SUMMARY:Atelier d'écriture
DESCRIPTION:L'atelier d'écriture mensuel aura pour thème la création com
 mune. Intitulé "Une histoire\, plusieurs mains\, zéro contrôle"\, il in
 vitera les participants au jeu du cadavre exquis.\n\nInventé par les surr
 éalistes\, le cadavre exquis est un jeu collectif « qui consiste à fair
 e composer une phrase\, ou un dessin\, par plusieurs personnes sans qu'auc
 une d'elles ne puissent tenir compte de la collaboration ou des collaborat
 ions précédentes. » (Le Dictionnaire abrégé du surréalisme\, André 
 Breton\, 1938).\n\nUne histoire naîtra sous vos yeux de la contribution d
 e chacun. Des variantes et contraintes ont été prévues pour pimenter l'
 exercice.
CATEGORIES:Atelier / Stage
LOCATION:Bibliothèque\, 15 rue des Fargues\, Faux-en-Périgord\, France
GEO:44.7904045;0.64206026
X-APPLE-STRUCTURED-LOCATION;VALUE=URI;X-ADDRESS=15 rue des Fargues\, Faux-e
 n-Périgord\, France;X-APPLE-RADIUS=100;X-TITLE=Bibliothèque:geo:44.79040
 45,0.64206026
END:VEVENT
BEGIN:VTIMEZONE
TZID:Europe/Paris
X-LIC-LOCATION:Europe/Paris
BEGIN:STANDARD
DTSTART:20251026T020000
TZOFFSETFROM:+0200
TZOFFSETTO:+0100
TZNAME:CET
END:STANDARD
END:VTIMEZONE
END:VCALENDAR