BEGIN:VCALENDAR
VERSION:2.0
PRODID:-//wp-events-plugin.com//7.2.3.1//EN
TZID:Europe/Paris
X-WR-TIMEZONE:Europe/Paris
BEGIN:VEVENT
UID:11702@agenda24.fr
DTSTART;TZID=Europe/Paris:20260307T100000
DTEND;TZID=Europe/Paris:20260307T120000
DTSTAMP:20260301T135042Z
URL:https://agenda24.fr/evenements/atelier-decouverte-de-la-gemmotherapie-
 7/
SUMMARY:Atelier : découverte de la gemmothérapie
DESCRIPTION:Partez à la rencontre des bourgeons et de leurs bienfaits lors
  de cet atelier nature. Apprenez à reconnaître les différentes essences
 \, découvrez les principes de la gemmothérapie et les vertus des bourgeo
 ns sur l'organisme. \n\nSelon la saison\, vous pourrez les observer dans l
 eur environnement naturel et\, si les conditions s'y prêtent\, participer
  à une petite récolte dans le respect de la plante. \n\nUn moment d'éch
 ange et de découverte pour s'initier en douceur à cette pratique naturel
 le !\n\n10h-12h\, lieu de rendez-vous révélé quelques jours avant l'ate
 lier.\n17 € / personne. Sur réservation.\n\nLib’elles Lune 06 85 54 8
 9 47 - libelleslune@gmail.com
CATEGORIES:Atelier / Stage
LOCATION:Neuvic\, Neuvic\, Neuvic\, France
GEO:45.0953386;0.50566640
X-APPLE-STRUCTURED-LOCATION;VALUE=URI;X-ADDRESS=Neuvic\, Neuvic\, France;X-
 APPLE-RADIUS=100;X-TITLE=Neuvic:geo:45.0953386,0.50566640
END:VEVENT
BEGIN:VTIMEZONE
TZID:Europe/Paris
X-LIC-LOCATION:Europe/Paris
BEGIN:STANDARD
DTSTART:20251026T020000
TZOFFSETFROM:+0200
TZOFFSETTO:+0100
TZNAME:CET
END:STANDARD
END:VTIMEZONE
END:VCALENDAR