BEGIN:VCALENDAR
VERSION:2.0
PRODID:-//wp-events-plugin.com//7.2.3.1//EN
TZID:Europe/Paris
X-WR-TIMEZONE:Europe/Paris
BEGIN:VEVENT
UID:11691@agenda24.fr
DTSTART;TZID=Europe/Paris:20260304T140000
DTEND;TZID=Europe/Paris:20260304T163000
DTSTAMP:20260301T135049Z
URL:https://agenda24.fr/evenements/atelier-de-creation-mercredi-en-folie-i
 mpression-3d-3/
SUMMARY:Atelier de création « Mercredi en Folie » : Impression 3D
DESCRIPTION:Rejoignez-nous pour des mercredis créatifs et festifs !\n\nCyc
 le de 3 mercredis (4\, 11 et 18/03).\n\nLes participants pourront découvr
 ir les bases de l’impression 3D et comprendre les différentes étapes d
 e fabrication d’un objet. De la conception à l’impression\, ils appre
 ndront à utiliser un logiciel simple de modélisation\, à préparer un f
 ichier et à lancer une impression 3D. \n\nÀ partir de 10 ans – Accès 
 gratuit - Places limitées. Inscription obligatoire\n\n14h-16h30\, Centre 
 Multimédia 05 53 80 09 88 –  sophie.asadli@mairie-neuvic-dordogne.fr\n
CATEGORIES:Atelier / Stage
LOCATION:Centre Multimédia\, 6 rue des Frères Pouget\, Neuvic\, France
GEO:45.0977543;0.47147955
X-APPLE-STRUCTURED-LOCATION;VALUE=URI;X-ADDRESS=6 rue des Frères Pouget\, 
 Neuvic\, France;X-APPLE-RADIUS=100;X-TITLE=Centre Multimédia:geo:45.09775
 43,0.47147955
END:VEVENT
BEGIN:VTIMEZONE
TZID:Europe/Paris
X-LIC-LOCATION:Europe/Paris
BEGIN:STANDARD
DTSTART:20251026T020000
TZOFFSETFROM:+0200
TZOFFSETTO:+0100
TZNAME:CET
END:STANDARD
END:VTIMEZONE
END:VCALENDAR