BEGIN:VCALENDAR
VERSION:2.0
PRODID:-//wp-events-plugin.com//7.2.3.1//EN
TZID:Europe/Paris
X-WR-TIMEZONE:Europe/Paris
BEGIN:VEVENT
UID:11680@agenda24.fr
DTSTART;TZID=Europe/Paris:20260301T150000
DTEND;TZID=Europe/Paris:20260301T150000
DTSTAMP:20260301T135049Z
URL:https://agenda24.fr/evenements/atelier-danses-traditionnelles/
SUMMARY:Atelier danses traditionnelles
DESCRIPTION:Atelier de danse traditionnelle à 15h\, salle des fêtes. \nT
 él: 06 64 38 26 33. La Doublerie \n\n\n
CATEGORIES:Atelier / Stage
LOCATION:salle des fêtes\, salle des fêtes\, Saint-Michel-de-Double\, Fra
 nce
GEO:45.0791329;0.29004339
X-APPLE-STRUCTURED-LOCATION;VALUE=URI;X-ADDRESS=salle des fêtes\, Saint-Mi
 chel-de-Double\, France;X-APPLE-RADIUS=100;X-TITLE=salle des fêtes:geo:45
 .0791329,0.29004339
END:VEVENT
BEGIN:VTIMEZONE
TZID:Europe/Paris
X-LIC-LOCATION:Europe/Paris
BEGIN:STANDARD
DTSTART:20251026T020000
TZOFFSETFROM:+0200
TZOFFSETTO:+0100
TZNAME:CET
END:STANDARD
END:VTIMEZONE
END:VCALENDAR