BEGIN:VCALENDAR
VERSION:2.0
PRODID:-//wp-events-plugin.com//7.2.3.1//EN
TZID:Europe/Paris
X-WR-TIMEZONE:Europe/Paris
BEGIN:VEVENT
UID:11701@agenda24.fr
DTSTART;TZID=Europe/Paris:20260307T160000
DTEND;TZID=Europe/Paris:20260307T180000
DTSTAMP:20260301T135041Z
URL:https://agenda24.fr/evenements/atelier-danse-3/
SUMMARY:Atelier danse
DESCRIPTION:Catherine\, enseignante en danse vous propose un atelier danse 
 en groupe\, à 2 ou en solo\, tous styles . De 7 à 107ans - buvette sur p
 lace.
CATEGORIES:Atelier / Stage
LOCATION:Café associatif l'Imaginaire\, 4 rue du Pont\, Lalinde\, France
GEO:44.8361579;0.7398912
X-APPLE-STRUCTURED-LOCATION;VALUE=URI;X-ADDRESS=4 rue du Pont\, Lalinde\, F
 rance;X-APPLE-RADIUS=100;X-TITLE=Café associatif l'Imaginaire:geo:44.8361
 579,0.7398912
END:VEVENT
BEGIN:VTIMEZONE
TZID:Europe/Paris
X-LIC-LOCATION:Europe/Paris
BEGIN:STANDARD
DTSTART:20251026T020000
TZOFFSETFROM:+0200
TZOFFSETTO:+0100
TZNAME:CET
END:STANDARD
END:VTIMEZONE
END:VCALENDAR