BEGIN:VCALENDAR
VERSION:2.0
PRODID:-//wp-events-plugin.com//7.2.3.1//EN
TZID:Europe/Paris
X-WR-TIMEZONE:Europe/Paris
BEGIN:VEVENT
UID:4055@agenda24.fr
DTSTART;TZID=Europe/Paris:20241119T100000
DTEND;TZID=Europe/Paris:20241119T150000
DTSTAMP:20241030T091130Z
URL:https://agenda24.fr/evenements/atelier-cuisine/
SUMMARY:Atelier cuisine
DESCRIPTION:
CATEGORIES:Atelier / Stage
LOCATION:La Passerelle\, 5\, place de la Jeunesse\, Brantôme\, France
GEO:45.3592880;0.65490417
X-APPLE-STRUCTURED-LOCATION;VALUE=URI;X-ADDRESS=5\, place de la Jeunesse\, 
 Brantôme\, France;X-APPLE-RADIUS=100;X-TITLE=La Passerelle:geo:45.3592880
 ,0.65490417
END:VEVENT
BEGIN:VTIMEZONE
TZID:Europe/Paris
X-LIC-LOCATION:Europe/Paris
BEGIN:STANDARD
DTSTART:20241027T020000
TZOFFSETFROM:+0200
TZOFFSETTO:+0100
TZNAME:CET
END:STANDARD
END:VTIMEZONE
END:VCALENDAR