BEGIN:VCALENDAR
VERSION:2.0
PRODID:-//wp-events-plugin.com//7.2.3.1//EN
TZID:Europe/Paris
X-WR-TIMEZONE:Europe/Paris
BEGIN:VEVENT
UID:11700@agenda24.fr
DTSTART;TZID=Europe/Paris:20260307T150000
DTEND;TZID=Europe/Paris:20260307T150000
DTSTAMP:20260301T135041Z
URL:https://agenda24.fr/evenements/atelier-crochet-gouter-maison-tarte/
SUMMARY:Atelier crochet + goûter - Maison Tarte
DESCRIPTION:Atelier crochet à Maison Tarte ! \n\nAu programme : Se régale
 r: avec des gourmandises concoctées par le chef de maison TARTE\, des pro
 duits frais\, locaux et de saison\, et ensuite l'atelier créatif! Un mome
 nt de partage et de fun.\n\n?? **Réservez votre place dès maintenant au 
 09 82 25 50 82*\n\n
CATEGORIES:Atelier / Stage
LOCATION:Maison Tarte\, 2 Cours Tourny\, Périgueux\, France
GEO:45.1861785;0.7214722
X-APPLE-STRUCTURED-LOCATION;VALUE=URI;X-ADDRESS=2 Cours Tourny\, Périgueux
 \, France;X-APPLE-RADIUS=100;X-TITLE=Maison Tarte:geo:45.1861785,0.7214722
END:VEVENT
BEGIN:VTIMEZONE
TZID:Europe/Paris
X-LIC-LOCATION:Europe/Paris
BEGIN:STANDARD
DTSTART:20251026T020000
TZOFFSETFROM:+0200
TZOFFSETTO:+0100
TZNAME:CET
END:STANDARD
END:VTIMEZONE
END:VCALENDAR