BEGIN:VCALENDAR
VERSION:2.0
PRODID:-//wp-events-plugin.com//7.2.3.1//EN
TZID:Europe/Paris
X-WR-TIMEZONE:Europe/Paris
BEGIN:VEVENT
UID:4074@agenda24.fr
DTSTART;TZID=Europe/Paris:20241127T170000
DTEND;TZID=Europe/Paris:20241127T190000
DTSTAMP:20241030T091130Z
URL:https://agenda24.fr/evenements/atelier-creatif-parent-enfant/
SUMMARY:Atelier créatif parent-enfant
DESCRIPTION:
CATEGORIES:Atelier / Stage
LOCATION:Espace socioculturel Le ruban vert\, La Passerelle\, Brantôme\, F
 rance
GEO:45.3595724;0.6546105
X-APPLE-STRUCTURED-LOCATION;VALUE=URI;X-ADDRESS=La Passerelle\, Brantôme\,
  France;X-APPLE-RADIUS=100;X-TITLE=Espace socioculturel Le ruban vert:geo:
 45.3595724,0.6546105
END:VEVENT
BEGIN:VTIMEZONE
TZID:Europe/Paris
X-LIC-LOCATION:Europe/Paris
BEGIN:STANDARD
DTSTART:20241027T020000
TZOFFSETFROM:+0200
TZOFFSETTO:+0100
TZNAME:CET
END:STANDARD
END:VTIMEZONE
END:VCALENDAR