BEGIN:VCALENDAR
VERSION:2.0
PRODID:-//wp-events-plugin.com//7.2.3.1//EN
TZID:Europe/Paris
X-WR-TIMEZONE:Europe/Paris
BEGIN:VEVENT
UID:8329@agenda24.fr
DTSTART;TZID=Europe/Paris:20250913T150000
DTEND;TZID=Europe/Paris:20250913T180000
DTSTAMP:20250908T142248Z
URL:https://agenda24.fr/evenements/atelier-auto-reparation-metal/
SUMMARY:Atelier auto réparation métal
DESCRIPTION:Vous avez un objet en métal cassé\, abimé\, a aiguisé?\n\nV
 ous ne savez pas comment le réparer? le souder ou le percer ?\n\nNous avo
 ns un atelier avec différents outils pour pouvoir réparer des métaux (a
 cier\, galva\, aluminium)\n\nCet atelier est encadré par Angélique soude
 use\, coordinatrice d'atelier. Elle se fera une joie de transmettre ses co
 nnaissances et voir ensemble comment réparer vos objets.\n\nUne participa
 tion financière libre en fonction de la réparation sera demandée. (pren
 ez de la monnaie avec vous)\n\nA samedi
CATEGORIES:Atelier / Stage
LOCATION:la Singerie\, 3 route des apprentis\, saint jory de chalais\, Dord
 ogne\, 24800\, Nouvelle Aquitaine\, France
X-APPLE-STRUCTURED-LOCATION;VALUE=URI;X-ADDRESS=3 route des apprentis\, sai
 nt jory de chalais\, Dordogne\, 24800\, Nouvelle Aquitaine\, France;X-APPL
 E-RADIUS=100;X-TITLE=la Singerie:geo:0,0
END:VEVENT
BEGIN:VTIMEZONE
TZID:Europe/Paris
X-LIC-LOCATION:Europe/Paris
BEGIN:DAYLIGHT
DTSTART:20250330T030000
TZOFFSETFROM:+0100
TZOFFSETTO:+0200
TZNAME:CEST
END:DAYLIGHT
END:VTIMEZONE
END:VCALENDAR