BEGIN:VCALENDAR
VERSION:2.0
PRODID:-//wp-events-plugin.com//7.2.3.1//EN
TZID:Europe/Paris
X-WR-TIMEZONE:Europe/Paris
BEGIN:VEVENT
UID:8341@agenda24.fr
DTSTART;TZID=Europe/Paris:20251009T183000
DTEND;TZID=Europe/Paris:20251009T210000
DTSTAMP:20251008T070417Z
URL:https://agenda24.fr/evenements/atelier-arpentage-lecture-partagee-anti
 raciste-partie-1/
SUMMARY:Atelier Arpentage / lecture partagée antiraciste
DESCRIPTION:Questionner notre blanchité et se responsabiliser en tant que 
 personnes blanches dans les milieux militants via le livre "Mécanique du 
 privilège blanc".\n\nAtelier organisé et proposé par le Collectif La Fr
 ontale en partenariat avec la librairie Les bullivores (à prix libre).\n\
 nTous les ateliers d'éduc' pop de La Frontale : https://lafrontale.org/sa
 ison-deduc-pop-2025-de-la-frontale/
ATTACH;FMTTYPE=image/jpeg:https://agenda24.fr/wp-content/uploads/2025/09/s
 ignal-2025-09-06-100606_003.png
CATEGORIES:Atelier / Stage,Militant
LOCATION:Salle annexe du 66 Degrés\, 18Bis Rue Gambetta\, 24000 Périgueux
 \, Périgueux\, 24000\, France
X-APPLE-STRUCTURED-LOCATION;VALUE=URI;X-ADDRESS=18Bis Rue Gambetta\, 24000 
 Périgueux\, Périgueux\, 24000\, France;X-APPLE-RADIUS=100;X-TITLE=Salle 
 annexe du 66 Degrés:geo:0,0
END:VEVENT
BEGIN:VTIMEZONE
TZID:Europe/Paris
X-LIC-LOCATION:Europe/Paris
BEGIN:DAYLIGHT
DTSTART:20250330T030000
TZOFFSETFROM:+0100
TZOFFSETTO:+0200
TZNAME:CEST
END:DAYLIGHT
END:VTIMEZONE
END:VCALENDAR