BEGIN:VCALENDAR
VERSION:2.0
PRODID:-//wp-events-plugin.com//7.2.3.1//EN
TZID:Europe/Paris
X-WR-TIMEZONE:Europe/Paris
BEGIN:VEVENT
UID:8340@agenda24.fr
DTSTART;TZID=Europe/Paris:20250917T183000
DTEND;TZID=Europe/Paris:20250917T210000
DTSTAMP:20250913T191021Z
URL:https://agenda24.fr/evenements/atelier-aller-vers-les-autres-dans-lesp
 ace-public/
SUMMARY:Atelier d'éducation populaire "Aller vers les autres dans l'espace
  public"
DESCRIPTION:Comment tisser des liens avec des inconnu.e.s ?\n\nPour refaire
  de l'espace public un lieu où faire collectif\, parler et s'écouter est
  une première étape.\n\nAtelier organisé et proposé par le Collectif L
 a Frontale à prix libre.
CATEGORIES:Atelier / Stage,Militant
LOCATION:Local de Femmes solidaires\, 17 rue Antoine Gadaud\, Périgueux\, 
 France
X-APPLE-STRUCTURED-LOCATION;VALUE=URI;X-ADDRESS=17 rue Antoine Gadaud\, Pé
 rigueux\, France;X-APPLE-RADIUS=100;X-TITLE=Local de Femmes solidaires:geo
 :0,0
END:VEVENT
BEGIN:VTIMEZONE
TZID:Europe/Paris
X-LIC-LOCATION:Europe/Paris
BEGIN:DAYLIGHT
DTSTART:20250330T030000
TZOFFSETFROM:+0100
TZOFFSETTO:+0200
TZNAME:CEST
END:DAYLIGHT
END:VTIMEZONE
END:VCALENDAR