BEGIN:VCALENDAR
VERSION:2.0
PRODID:-//wp-events-plugin.com//7.2.3.1//EN
TZID:Europe/Paris
X-WR-TIMEZONE:Europe/Paris
BEGIN:VEVENT
UID:3918@agenda24.fr
DTSTART;TZID=Europe/Paris:20241120T140000
DTEND;TZID=Europe/Paris:20241120T170000
DTSTAMP:20241030T085240Z
URL:https://agenda24.fr/evenements/apres-midi-jeux-decouverte-du-jeu-de-so
 ciete-circino/
SUMMARY:Après-midi jeux -  Découverte du jeu de société "Circino"
DESCRIPTION:
CATEGORIES:Jeux
LOCATION:Office de tourisme\, 8 Place du Maréchal Foch\, Thiviers\, France
GEO:45.41433;0.92018
X-APPLE-STRUCTURED-LOCATION;VALUE=URI;X-ADDRESS=8 Place du Maréchal Foch\,
  Thiviers\, France;X-APPLE-RADIUS=100;X-TITLE=Office de tourisme:geo:45.41
 433,0.92018
END:VEVENT
BEGIN:VTIMEZONE
TZID:Europe/Paris
X-LIC-LOCATION:Europe/Paris
BEGIN:STANDARD
DTSTART:20241027T020000
TZOFFSETFROM:+0200
TZOFFSETTO:+0100
TZNAME:CET
END:STANDARD
END:VTIMEZONE
END:VCALENDAR