BEGIN:VCALENDAR
VERSION:2.0
PRODID:-//wp-events-plugin.com//7.2.3.1//EN
TZID:Europe/Paris
X-WR-TIMEZONE:Europe/Paris
BEGIN:VEVENT
UID:10304@agenda24.fr
DTSTART;TZID=Europe/Paris:20251220T140000
DTEND;TZID=Europe/Paris:20251220T160000
DTSTAMP:20251210T134620Z
URL:https://agenda24.fr/evenements/apres-midi-jeux-de-societe-4/
SUMMARY:Après-midi jeux de société
DESCRIPTION:Après-midi jeux de société ouverts à tous\, petits et grand
 s. vous pouvez apporter vos jeux de 14h à 16h à la Médiathèque.
CATEGORIES:Jeux
LOCATION:Médiathèque\, Médiathèque\, le Pizou\, France
GEO:45.0257202;0.06122525
X-APPLE-STRUCTURED-LOCATION;VALUE=URI;X-ADDRESS=Médiathèque\, le Pizou\, 
 France;X-APPLE-RADIUS=100;X-TITLE=Médiathèque:geo:45.0257202,0.06122525
END:VEVENT
BEGIN:VTIMEZONE
TZID:Europe/Paris
X-LIC-LOCATION:Europe/Paris
BEGIN:STANDARD
DTSTART:20251026T020000
TZOFFSETFROM:+0200
TZOFFSETTO:+0100
TZNAME:CET
END:STANDARD
END:VTIMEZONE
END:VCALENDAR