BEGIN:VCALENDAR
VERSION:2.0
PRODID:-//wp-events-plugin.com//7.2.3.1//EN
TZID:Europe/Paris
X-WR-TIMEZONE:Europe/Paris
BEGIN:VEVENT
UID:10308@agenda24.fr
DTSTART;TZID=Europe/Paris:20251213T140000
DTEND;TZID=Europe/Paris:20251213T170000
DTSTAMP:20251210T134620Z
URL:https://agenda24.fr/evenements/apres-midi-jeux-6/
SUMMARY:Après-midi jeux
DESCRIPTION:La ludothèque se déplace à la Coquille\, venez profiter d'un
  moment convivial et jouer en famille
CATEGORIES:Jeux
LOCATION:Bibliothèque & Ludothèque\, Bibliothèque & Ludothèque\, La Coq
 uille\, France
GEO:45.54181;0.97682
X-APPLE-STRUCTURED-LOCATION;VALUE=URI;X-ADDRESS=Bibliothèque & Ludothèque
 \, La Coquille\, France;X-APPLE-RADIUS=100;X-TITLE=Bibliothèque & Ludoth
 èque:geo:45.54181,0.97682
END:VEVENT
BEGIN:VTIMEZONE
TZID:Europe/Paris
X-LIC-LOCATION:Europe/Paris
BEGIN:STANDARD
DTSTART:20251026T020000
TZOFFSETFROM:+0200
TZOFFSETTO:+0100
TZNAME:CET
END:STANDARD
END:VTIMEZONE
END:VCALENDAR