BEGIN:VCALENDAR
VERSION:2.0
PRODID:-//wp-events-plugin.com//7.2.3.1//EN
TZID:Europe/Paris
X-WR-TIMEZONE:Europe/Paris
BEGIN:VEVENT
UID:3866@agenda24.fr
DTSTART;TZID=Europe/Paris:20241031T140000
DTEND;TZID=Europe/Paris:20241031T190000
DTSTAMP:20241030T085653Z
URL:https://agenda24.fr/evenements/apres-midi-halloween/
SUMMARY:Après-midi Halloween
DESCRIPTION:
CATEGORIES:Evènement à thème
LOCATION:L'HanGare & la Récréa'thiv\, Rue Pierre Semard\, Thiviers\, Fran
 ce
GEO:45.41726;0.91982
X-APPLE-STRUCTURED-LOCATION;VALUE=URI;X-ADDRESS=Rue Pierre Semard\, Thivier
 s\, France;X-APPLE-RADIUS=100;X-TITLE=L'HanGare & la Récréa'thiv:geo:45.
 41726,0.91982
END:VEVENT
BEGIN:VTIMEZONE
TZID:Europe/Paris
X-LIC-LOCATION:Europe/Paris
BEGIN:STANDARD
DTSTART:20241027T020000
TZOFFSETFROM:+0200
TZOFFSETTO:+0100
TZNAME:CET
END:STANDARD
END:VTIMEZONE
END:VCALENDAR