BEGIN:VCALENDAR
VERSION:2.0
PRODID:-//wp-events-plugin.com//7.2.3.1//EN
TZID:Europe/Paris
X-WR-TIMEZONE:Europe/Paris
BEGIN:VEVENT
UID:4452@agenda24.fr
DTSTART;TZID=Europe/Paris:20250107T140000
DTEND;TZID=Europe/Paris:20250107T160000
DTSTAMP:20241214T154212Z
URL:https://agenda24.fr/evenements/apres-midi-de-loisirs-2/
SUMMARY:Après-midi de loisirs
DESCRIPTION:
CATEGORIES:Jeux
LOCATION:Salle du Club\, Mairie\, Saint-Priest-Les-Fougeres\, France
GEO:45.5444490;1.0132020
X-APPLE-STRUCTURED-LOCATION;VALUE=URI;X-ADDRESS=Mairie\, Saint-Priest-Les-F
 ougeres\, France;X-APPLE-RADIUS=100;X-TITLE=Salle du Club:geo:45.5444490,1
 .0132020
END:VEVENT
BEGIN:VTIMEZONE
TZID:Europe/Paris
X-LIC-LOCATION:Europe/Paris
BEGIN:STANDARD
DTSTART:20241027T020000
TZOFFSETFROM:+0200
TZOFFSETTO:+0100
TZNAME:CET
END:STANDARD
END:VTIMEZONE
END:VCALENDAR