BEGIN:VCALENDAR
VERSION:2.0
PRODID:-//wp-events-plugin.com//7.2.3.1//EN
TZID:Europe/Paris
X-WR-TIMEZONE:Europe/Paris
BEGIN:VEVENT
UID:11692@agenda24.fr
DTSTART;TZID=Europe/Paris:20260304T140000
DTEND;TZID=Europe/Paris:20260304T153000
DTSTAMP:20260301T135049Z
URL:https://agenda24.fr/evenements/apprentissage-flute-amerindienne-2/
SUMMARY:Apprentissage flute amérindienne
DESCRIPTION:Apprentissage de la flute siyotanka instrument intuitif et de r
 eliance des indiens d'Amérique du Nord. \n\nAcquérir les coordinations\,
  la dextérité\, les techniques et jouer vos créations\, c'est le progra
 mme que je vous propose.\n\nIl nécessite un apprentissage mais pas de con
 naitre la musique.\ntout niveau
CATEGORIES:Atelier / Stage
LOCATION:Saint-Priest-Les-Fougeres\, Saint-Priest-Les-Fougeres\, Saint-Prie
 st-Les-Fougeres\, France
GEO:45.54299;1.01044
X-APPLE-STRUCTURED-LOCATION;VALUE=URI;X-ADDRESS=Saint-Priest-Les-Fougeres\,
  Saint-Priest-Les-Fougeres\, France;X-APPLE-RADIUS=100;X-TITLE=Saint-Pries
 t-Les-Fougeres:geo:45.54299,1.01044
END:VEVENT
BEGIN:VTIMEZONE
TZID:Europe/Paris
X-LIC-LOCATION:Europe/Paris
BEGIN:STANDARD
DTSTART:20251026T020000
TZOFFSETFROM:+0200
TZOFFSETTO:+0100
TZNAME:CET
END:STANDARD
END:VTIMEZONE
END:VCALENDAR