BEGIN:VCALENDAR
VERSION:2.0
PRODID:-//wp-events-plugin.com//7.2.3.1//EN
TZID:Europe/Paris
X-WR-TIMEZONE:Europe/Paris
BEGIN:VEVENT
UID:5933@agenda24.fr
DTSTART;TZID=Europe/Paris:20250326T170000
DTEND;TZID=Europe/Paris:20250326T170000
DTSTAMP:20250326T140656Z
URL:https://agenda24.fr/evenements/apero-graines-avec-marjorie-paysanne-he
 rboriste-lherbe-folle/
SUMMARY:Apéro-graines avec Marjorie paysanne herboriste (L'herbe Folle)
DESCRIPTION:Vive les semis ! Conseil pour produire sa semence.\nTroc de gra
 ines et apéro.\nRamène ta semence !
CATEGORIES:Marché / Foire / Brocante
LOCATION:Au coin du marché atelier - café\, 26\, place du marché\, Mareu
 il\, France
GEO:45.4509149;0.450163
X-APPLE-STRUCTURED-LOCATION;VALUE=URI;X-ADDRESS=26\, place du marché\, Mar
 euil\, France;X-APPLE-RADIUS=100;X-TITLE=Au coin du marché atelier - caf
 é:geo:45.4509149,0.450163
END:VEVENT
BEGIN:VTIMEZONE
TZID:Europe/Paris
X-LIC-LOCATION:Europe/Paris
BEGIN:STANDARD
DTSTART:20241027T020000
TZOFFSETFROM:+0200
TZOFFSETTO:+0100
TZNAME:CET
END:STANDARD
END:VTIMEZONE
END:VCALENDAR