BEGIN:VCALENDAR
VERSION:2.0
PRODID:-//wp-events-plugin.com//7.2.3.1//EN
TZID:Europe/Paris
X-WR-TIMEZONE:Europe/Paris
BEGIN:VEVENT
UID:10212@agenda24.fr
DTSTART;TZID=Europe/Paris:20251212T183000
DTEND;TZID=Europe/Paris:20251212T183000
DTSTAMP:20251210T134244Z
URL:https://agenda24.fr/evenements/apero-des-parents-lenfer-des-devoirs/
SUMMARY:Apéro des parents :  l’enfer des devoirs
DESCRIPTION:Crises à répétition\, craquage parental\, envie \nd’apport
 er plus de sérénité à la maison? Partageons \nnos trucs et astuces pou
 r que les devoirs ne soient \nplus un enfer partagé! Une psychologue sera
  à \nvotre écoute tout au long de la soirée.
CATEGORIES:Evènement à thème
LOCATION:Espace Agora\, Espace Agora\, Boulazac Isle Manoire\, France
GEO:45.1818227;0.7626914
X-APPLE-STRUCTURED-LOCATION;VALUE=URI;X-ADDRESS=Espace Agora\, Boulazac Isl
 e Manoire\, France;X-APPLE-RADIUS=100;X-TITLE=Espace Agora:geo:45.1818227,
 0.7626914
END:VEVENT
BEGIN:VTIMEZONE
TZID:Europe/Paris
X-LIC-LOCATION:Europe/Paris
BEGIN:STANDARD
DTSTART:20251026T020000
TZOFFSETFROM:+0200
TZOFFSETTO:+0100
TZNAME:CET
END:STANDARD
END:VTIMEZONE
END:VCALENDAR