BEGIN:VCALENDAR
VERSION:2.0
PRODID:-//wp-events-plugin.com//7.2.3.1//EN
TZID:Europe/Paris
X-WR-TIMEZONE:Europe/Paris
BEGIN:VEVENT
UID:10792@agenda24.fr
DTSTART;TZID=Europe/Paris:20260227T000000
DTEND;TZID=Europe/Paris:20260227T000000
DTSTAMP:20260223T200002Z
URL:https://agenda24.fr/evenements/apero-decouverte-et-apero-benevole-lhan
 gare/
SUMMARY:Apéro découverte et apéro bénévole - L'Hangare
DESCRIPTION:Ce moment convivial vous donnera l'occasion\n\n\n 	 🤗 Si vo
 us ne connaissez pas encore très bien l'association\, de découvrir notre
  superbe Tiers-Lieu\, notre Café et nos gentil·les bénévoles !\n 	💬
 ✨Si vous êtes déjà impliqué·e dans le projet\, de venir passer un b
 on moment avec vos ami·es bénévoles\, et de partager votre expérience 
 avec les personnes pré-citées !\n\n\nApéro offert : 🍎 Jus de pomme c
 haud aux épices\,\n🍋 Mocktail de gingembre au citron\,\n🥨 grignotag
 es...\n&nbsp\;\nCes rencontres sont ouvertes à tous·tes\, \ndans une am
 biance chaleureuse et bienveillante. \n👧🧒 Les enfants sont les bien
 venu·es !\n📍 Lieu : Dans le Café de L'HanGare\n\nPour plus d'informat
 ions\, n'hésitez pas à nous contacter\n📩 contact@hangare.eu\nÀ très
  vite ! 💫
CATEGORIES:Evènement à thème
LOCATION:L'HanGare\, Rue Pierre Sémard\, Thiviers\, France
GEO:45.4181459;0.92055737
X-APPLE-STRUCTURED-LOCATION;VALUE=URI;X-ADDRESS=Rue Pierre Sémard\, Thivie
 rs\, France;X-APPLE-RADIUS=100;X-TITLE=L'HanGare:geo:45.4181459,0.92055737
END:VEVENT
BEGIN:VTIMEZONE
TZID:Europe/Paris
X-LIC-LOCATION:Europe/Paris
BEGIN:STANDARD
DTSTART:20251026T020000
TZOFFSETFROM:+0200
TZOFFSETTO:+0100
TZNAME:CET
END:STANDARD
END:VTIMEZONE
END:VCALENDAR