BEGIN:VCALENDAR
VERSION:2.0
PRODID:-//wp-events-plugin.com//7.2.3.1//EN
TZID:Europe/Paris
X-WR-TIMEZONE:Europe/Paris
BEGIN:VEVENT
UID:3863@agenda24.fr
DTSTART;TZID=Europe/Paris:20241108T123000
DTEND;TZID=Europe/Paris:20241108T140000
DTSTAMP:20241030T085652Z
URL:https://agenda24.fr/evenements/anniversaires-en-delire-venez-feter-lan
 niversaire-des-personnes-nees-en-octobre/
SUMMARY:Anniversaires en délire! (venez fêter l’anniversaire des person
 nes nées en octobre !)
DESCRIPTION:
CATEGORIES:Evènement à thème
LOCATION:Espace Socioculturel Le Ruban Vert\, 2 place André Marchaps\, Mar
 euil\, France
GEO:45.4503293;0.45083565
X-APPLE-STRUCTURED-LOCATION;VALUE=URI;X-ADDRESS=2 place André Marchaps\, M
 areuil\, France;X-APPLE-RADIUS=100;X-TITLE=Espace Socioculturel Le Ruban V
 ert:geo:45.4503293,0.45083565
END:VEVENT
BEGIN:VTIMEZONE
TZID:Europe/Paris
X-LIC-LOCATION:Europe/Paris
BEGIN:STANDARD
DTSTART:20241027T020000
TZOFFSETFROM:+0200
TZOFFSETTO:+0100
TZNAME:CET
END:STANDARD
END:VTIMEZONE
END:VCALENDAR