BEGIN:VCALENDAR
VERSION:2.0
PRODID:-//wp-events-plugin.com//7.2.3.1//EN
TZID:Europe/Paris
X-WR-TIMEZONE:Europe/Paris
BEGIN:VEVENT
UID:5113@agenda24.fr
DTSTART;TZID=Europe/Paris:20250310T093000
DTEND;TZID=Europe/Paris:20250310T103000
DTSTAMP:20250213T093421Z
URL:https://agenda24.fr/evenements/animations-bebes-lecteurs/
SUMMARY:Animations Bébés lecteurs
DESCRIPTION:Animations gratuites autour de la lecture pour les bébés acco
 mpagnés de leurs parents\, grands parents\, assistantes maternelles de 9h
 45 à 10h45 à la Médiathèque – 05 53 82 83 85
CATEGORIES:Rencontre / Conférence / Discussion
LOCATION:Médiathèque\, Médiathèque\, le Pizou\, France
GEO:45.0244906;0.06069885
X-APPLE-STRUCTURED-LOCATION;VALUE=URI;X-ADDRESS=Médiathèque\, le Pizou\, 
 France;X-APPLE-RADIUS=100;X-TITLE=Médiathèque:geo:45.0244906,0.06069885
END:VEVENT
BEGIN:VTIMEZONE
TZID:Europe/Paris
X-LIC-LOCATION:Europe/Paris
BEGIN:STANDARD
DTSTART:20241027T020000
TZOFFSETFROM:+0200
TZOFFSETTO:+0100
TZNAME:CET
END:STANDARD
END:VTIMEZONE
END:VCALENDAR