BEGIN:VCALENDAR
VERSION:2.0
PRODID:-//wp-events-plugin.com//7.2.3.1//EN
TZID:Europe/Paris
X-WR-TIMEZONE:Europe/Paris
BEGIN:VEVENT
UID:9718@agenda24.fr
DTSTART;TZID=Europe/Paris:20251127T203000
DTEND;TZID=Europe/Paris:20251127T220000
DTSTAMP:20251101T090449Z
URL:https://agenda24.fr/evenements/agora-pole-national-cirque-time-to-tell
 -martin-palisse-et-david-gauchard/
SUMMARY:Agora Pôle National Cirque - Time to tell / Martin Palisse et Davi
 d Gauchard
DESCRIPTION:Dans ce solo de jonglage\, le circassien Martin Palisse partage
  un témoignage poignant sur sa maladie?: la mucoviscidose.\nDe celle qui 
 asphyxie\, qui façonne le quotidien\, les relations\, les choix.\nÀ trav
 ers un portrait intime et puissant\, il convoque virtuosité\, poésie et 
 technique.\nLe metteur en scène David Gauchard recueille sa parole brute 
 pour la mettre en dialogue avec un jonglage radical\, physique et vital.\n
 \nUn combat s’incarne sur scène — entre génétique\, héritage et de
 stinée — où la parole et le mouvement s’affrontent\, s’accordent\,
  et s’élèvent.\n\nScènes de Territoire(s) - Agora PNC\, Grand Périgu
 eux\, Nantheuil\nEn partenariat avec l'Agence Culturelle Dordogne-Périgor
 d \nRéservations auprès de l'Office de tourisme : 05 53 55 12 50
CATEGORIES:Spectacle
LOCATION:Chemin les Grésilles\, Chemin les Grésilles\, Nantheuil\, France
GEO:45.41562;0.94321
X-APPLE-STRUCTURED-LOCATION;VALUE=URI;X-ADDRESS=Chemin les Grésilles\, Nan
 theuil\, France;X-APPLE-RADIUS=100;X-TITLE=Chemin les Grésilles:geo:45.41
 562,0.94321
END:VEVENT
BEGIN:VTIMEZONE
TZID:Europe/Paris
X-LIC-LOCATION:Europe/Paris
BEGIN:STANDARD
DTSTART:20251026T020000
TZOFFSETFROM:+0200
TZOFFSETTO:+0100
TZNAME:CET
END:STANDARD
END:VTIMEZONE
END:VCALENDAR