BEGIN:VCALENDAR
VERSION:2.0
PRODID:-//wp-events-plugin.com//7.2.3.1//EN
TZID:Europe/Paris
X-WR-TIMEZONE:Europe/Paris
BEGIN:VEVENT
UID:5266@agenda24.fr
DTSTART;TZID=Europe/Paris:20250313T190000
DTEND;TZID=Europe/Paris:20250313T223000
DTSTAMP:20250312T094702Z
URL:https://agenda24.fr/evenements/agora-pole-national-cirque-soiree-parta
 gee-2-spectacles/
SUMMARY:Spectacle Cirque - Petite Reine - Compagnie L'Oublié(e) - Raphaël
 le Boitel
DESCRIPTION:PETITE REINE\nCompagnie L’Oublié(e) - Raphaëlle Boitel\nCub
 e cirque | 19h | Durée : 30 min\nAprès sa performance dans le spectacle 
 Horizon sur les coupoles de la cathédrale Saint-Front de Périgueux\, pui
 s sur les toits du Palais-Royal de Paris\, Fleuriane Cornet se retrouve au
  centre de ce solo pour vélo acrobatique mis en scène par Raphaëlle Boi
 tel. Un portrait de femme\, un destin à la recherche de soi. Une satire c
 ircassienne et loufoque sur l’emprise\, à la croisée du corps et des m
 ots.\n\n&nbsp\;\n\nSOIRÉE PARTAGÉE [2 SPECTACLES]\nJeudi 13 &amp\; Vendr
 edi 14 mars\nhttps://billetterie-agoraboulazac.mapado.com/event/408883-soi
 ree-partagee-2-spectacles\n\n
CATEGORIES:Spectacle
LOCATION:Le Cube Cirque\, Plaine de Lamoura\, Boulazac-Isle-Manoire \, Fran
 ce
X-APPLE-STRUCTURED-LOCATION;VALUE=URI;X-ADDRESS=Plaine de Lamoura\, Boulaza
 c-Isle-Manoire \, France;X-APPLE-RADIUS=100;X-TITLE=Le Cube Cirque:geo:0,0
END:VEVENT
BEGIN:VTIMEZONE
TZID:Europe/Paris
X-LIC-LOCATION:Europe/Paris
BEGIN:STANDARD
DTSTART:20241027T020000
TZOFFSETFROM:+0200
TZOFFSETTO:+0100
TZNAME:CET
END:STANDARD
END:VTIMEZONE
END:VCALENDAR