BEGIN:VCALENDAR
VERSION:2.0
PRODID:-//wp-events-plugin.com//7.2.3.1//EN
TZID:Europe/Paris
X-WR-TIMEZONE:Europe/Paris
BEGIN:VEVENT
UID:9717@agenda24.fr
DTSTART;TZID=Europe/Paris:20251118T200000
DTEND;TZID=Europe/Paris:20251118T213000
DTSTAMP:20251101T090449Z
URL:https://agenda24.fr/evenements/agora-pole-national-cirque-pourquoi-les
 -poules-preferent-etre-elevees-en-batterie-jerome-rouger-la-martingale/
SUMMARY:Agora Pôle National Cirque - Pourquoi les poules préfèrent être
  élevées en batterie / Jérôme Rouger - La Martingale
DESCRIPTION:Pourquoi donc les poules ressentent-elles le besoin de se colle
 r les unes aux autres\, dans des conditions qui paraissent pourtant peu en
 viables??\nLe professeur Rouger\, directeur de l’École d’agriculture 
 ambulante\, tente d’éclaircir cette énigme au cours d’une conférenc
 e aussi sérieuse qu’absurde.\nEntre vérités scientifiques\, théories
  farfelues et réflexions métaphysiques\, cette fausse conférence navigu
 e avec jubilation entre savoir rigoureux et fantaisie décalée.\n\nMaîtr
 e dans l’art du détournement\, Jérôme Rouger livre une performance r
 éjouissante\, pleine d’humour et d’autodérision\, qui nous invite à
  réfléchir autrement sur notre propre humanité.\n\nScènes de Territoir
 e(s) - Agora PNC\, Grand Périgueux\, Eglise Neuve de Vergt
CATEGORIES:Spectacle
LOCATION:Salle polyvalente\, Salle polyvalente\, Eglise-Neuve-de-Vergt\, Fr
 ance
GEO:45.0825679;0.73265871
X-APPLE-STRUCTURED-LOCATION;VALUE=URI;X-ADDRESS=Salle polyvalente\, Eglise-
 Neuve-de-Vergt\, France;X-APPLE-RADIUS=100;X-TITLE=Salle polyvalente:geo:4
 5.0825679,0.73265871
END:VEVENT
BEGIN:VTIMEZONE
TZID:Europe/Paris
X-LIC-LOCATION:Europe/Paris
BEGIN:STANDARD
DTSTART:20251026T020000
TZOFFSETFROM:+0200
TZOFFSETTO:+0100
TZNAME:CET
END:STANDARD
END:VTIMEZONE
END:VCALENDAR