BEGIN:VCALENDAR
VERSION:2.0
PRODID:-//wp-events-plugin.com//7.2.3.1//EN
TZID:Europe/Paris
X-WR-TIMEZONE:Europe/Paris
BEGIN:VEVENT
UID:4486@agenda24.fr
DTSTART;TZID=Europe/Paris:20250116T200000
DTEND;TZID=Europe/Paris:20250116T213000
DTSTAMP:20241214T154050Z
URL:https://agenda24.fr/evenements/agora-pole-national-cirque-nos-matins-i
 nterieurs-collectif-petit-travers-et-quatuor-debussy/
SUMMARY:Agora - Pôle National Cirque - Nos Matins Intérieurs / Collectif 
 Petit Travers et Quatuor Debussy
DESCRIPTION:
CATEGORIES:Spectacle
LOCATION:Avenue de l'Agora\, Avenue de l'Agora\, Boulazac Isle Manoire\, Fr
 ance
GEO:45.18222;0.76248
X-APPLE-STRUCTURED-LOCATION;VALUE=URI;X-ADDRESS=Avenue de l'Agora\, Boulaza
 c Isle Manoire\, France;X-APPLE-RADIUS=100;X-TITLE=Avenue de l'Agora:geo:4
 5.18222,0.76248
END:VEVENT
BEGIN:VTIMEZONE
TZID:Europe/Paris
X-LIC-LOCATION:Europe/Paris
BEGIN:STANDARD
DTSTART:20241027T020000
TZOFFSETFROM:+0200
TZOFFSETTO:+0100
TZNAME:CET
END:STANDARD
END:VTIMEZONE
END:VCALENDAR