BEGIN:VCALENDAR
VERSION:2.0
PRODID:-//wp-events-plugin.com//7.2.3.1//EN
TZID:Europe/Paris
X-WR-TIMEZONE:Europe/Paris
BEGIN:VEVENT
UID:9716@agenda24.fr
DTSTART;TZID=Europe/Paris:20251113T200000
DTEND;TZID=Europe/Paris:20251113T213000
DTSTAMP:20251101T090449Z
URL:https://agenda24.fr/evenements/agora-pole-national-cirque-masculin-es-
 creation-compagnie-lmrgee/
SUMMARY:Agora Pôle National Cirque - Masculin.es [création] / Compagnie l
 'MRG'ée
DESCRIPTION:Masculin.es explore avec force et sensibilité les multiples vi
 sages du masculin.\nHéritages culturels\, injonctions sociales et contrad
 ictions tissent une toile où les corps en mouvement dévoilent des identi
 tés en mutation et des récits intimes qui s’entrelacent.\nEntre théâ
 tre et arts du cirque\, cette création fait du mouvement\, de l’équili
 bre et de la physicalité des langages à part entière.\n\nLa scène devi
 ent un espace où les normes vacillent\, où l’expérience sensible ouvr
 e la voie à de nouveaux récits.\nSe dessine une cartographie des «entre
 » — entre un corps et ce qu’il contient — qui invite à poser un re
 gard pluriel.\n\nDans le cadre de La Nuit du Cirque\, un événement inter
 national organisé par Territoires de Cirque\, avec le soutien du ministè
 re de la Culture
CATEGORIES:Spectacle
LOCATION:Boulazac Isle Manoire\, Boulazac Isle Manoire\, Boulazac Isle Mano
 ire\, France
GEO:45.1738641;0.76826582
X-APPLE-STRUCTURED-LOCATION;VALUE=URI;X-ADDRESS=Boulazac Isle Manoire\, Bou
 lazac Isle Manoire\, France;X-APPLE-RADIUS=100;X-TITLE=Boulazac Isle Manoi
 re:geo:45.1738641,0.76826582
END:VEVENT
BEGIN:VTIMEZONE
TZID:Europe/Paris
X-LIC-LOCATION:Europe/Paris
BEGIN:STANDARD
DTSTART:20251026T020000
TZOFFSETFROM:+0200
TZOFFSETTO:+0100
TZNAME:CET
END:STANDARD
END:VTIMEZONE
END:VCALENDAR