BEGIN:VCALENDAR
VERSION:2.0
PRODID:-//wp-events-plugin.com//7.2.3.1//EN
TZID:Europe/Paris
X-WR-TIMEZONE:Europe/Paris
BEGIN:VEVENT
UID:4496@agenda24.fr
DTSTART;TZID=Europe/Paris:20250128T200000
DTEND;TZID=Europe/Paris:20250128T210000
DTSTAMP:20241214T154123Z
URL:https://agenda24.fr/evenements/agora-pole-national-cirque-ici-la-dapre
 s-le-film-ici-brazza-antoine-boutet/
SUMMARY:Agora - Pôle National Cirque - Ici Là ! / D'après le film "Ici B
 razza"\, Antoine Boutet
DESCRIPTION:
CATEGORIES:Spectacle
LOCATION:Agora - Auditorium\, Avenue de l'Agora\, Boulazac\, 24750\, France
GEO:45.182221;0.761598
X-APPLE-STRUCTURED-LOCATION;VALUE=URI;X-ADDRESS=Avenue de l'Agora\, Boulaza
 c\, 24750\, France;X-APPLE-RADIUS=100;X-TITLE=Agora - Auditorium:geo:45.18
 2221,0.761598
END:VEVENT
BEGIN:VTIMEZONE
TZID:Europe/Paris
X-LIC-LOCATION:Europe/Paris
BEGIN:STANDARD
DTSTART:20241027T020000
TZOFFSETFROM:+0200
TZOFFSETTO:+0100
TZNAME:CET
END:STANDARD
END:VTIMEZONE
END:VCALENDAR