BEGIN:VCALENDAR
VERSION:2.0
PRODID:-//wp-events-plugin.com//7.2.3.1//EN
TZID:Europe/Paris
X-WR-TIMEZONE:Europe/Paris
BEGIN:VEVENT
UID:3965@agenda24.fr
DTSTART;TZID=Europe/Paris:20241126T200000
DTEND;TZID=Europe/Paris:20241126T213000
DTSTAMP:20241030T091320Z
URL:https://agenda24.fr/evenements/agora-pling-klang-mathieu-despoisse-et-
 etienne-manceau-3/
SUMMARY:Agora - Pling-Klang / Mathieu Despoisse et Etienne Manceau
DESCRIPTION:
CATEGORIES:Spectacle
LOCATION:Avenue de l'Agora\, Avenue de l'Agora\, Ligueux\, France
GEO:45.3102748;0.8512646
X-APPLE-STRUCTURED-LOCATION;VALUE=URI;X-ADDRESS=Avenue de l'Agora\, Ligueux
 \, France;X-APPLE-RADIUS=100;X-TITLE=Avenue de l'Agora:geo:45.3102748,0.85
 12646
END:VEVENT
BEGIN:VTIMEZONE
TZID:Europe/Paris
X-LIC-LOCATION:Europe/Paris
BEGIN:STANDARD
DTSTART:20241027T020000
TZOFFSETFROM:+0200
TZOFFSETTO:+0100
TZNAME:CET
END:STANDARD
END:VTIMEZONE
END:VCALENDAR