BEGIN:VCALENDAR
VERSION:2.0
PRODID:-//wp-events-plugin.com//7.2.3.1//EN
TZID:Europe/Paris
X-WR-TIMEZONE:Europe/Paris
BEGIN:VEVENT
UID:3966@agenda24.fr
DTSTART;TZID=Europe/Paris:20241127T200000
DTEND;TZID=Europe/Paris:20241127T213000
DTSTAMP:20241030T091320Z
URL:https://agenda24.fr/evenements/agora-pling-klang-mathieu-despoisse-et-
 etienne-manceau-2/
SUMMARY:Agora - Pling-Klang / Mathieu Despoisse et Etienne Manceau
DESCRIPTION:
CATEGORIES:Spectacle
LOCATION:Avenue de l'Agora\, Avenue de l'Agora\, Eglise-Neuve-de-Vergt\, Fr
 ance
GEO:45.0821028;0.73354538
X-APPLE-STRUCTURED-LOCATION;VALUE=URI;X-ADDRESS=Avenue de l'Agora\, Eglise-
 Neuve-de-Vergt\, France;X-APPLE-RADIUS=100;X-TITLE=Avenue de l'Agora:geo:4
 5.0821028,0.73354538
END:VEVENT
BEGIN:VTIMEZONE
TZID:Europe/Paris
X-LIC-LOCATION:Europe/Paris
BEGIN:STANDARD
DTSTART:20241027T020000
TZOFFSETFROM:+0200
TZOFFSETTO:+0100
TZNAME:CET
END:STANDARD
END:VTIMEZONE
END:VCALENDAR