BEGIN:VCALENDAR
VERSION:2.0
PRODID:-//wp-events-plugin.com//7.2.3.1//EN
TZID:Europe/Paris
X-WR-TIMEZONE:Europe/Paris
BEGIN:VEVENT
UID:3963@agenda24.fr
DTSTART;TZID=Europe/Paris:20241115T183000
DTEND;TZID=Europe/Paris:20241115T230000
DTSTAMP:20241030T091320Z
URL:https://agenda24.fr/evenements/agora-la-nuit-du-cirque-3-spectacles/
SUMMARY:Agora - La Nuit du Cirque [3 spectacles]
DESCRIPTION:
CATEGORIES:Spectacle
LOCATION:Avenue de l'Agora\, Avenue de l'Agora\, Boulazac Isle Manoire\, Fr
 ance
GEO:45.17351;0.76855
X-APPLE-STRUCTURED-LOCATION;VALUE=URI;X-ADDRESS=Avenue de l'Agora\, Boulaza
 c Isle Manoire\, France;X-APPLE-RADIUS=100;X-TITLE=Avenue de l'Agora:geo:4
 5.17351,0.76855
END:VEVENT
BEGIN:VTIMEZONE
TZID:Europe/Paris
X-LIC-LOCATION:Europe/Paris
BEGIN:STANDARD
DTSTART:20241027T020000
TZOFFSETFROM:+0200
TZOFFSETTO:+0100
TZNAME:CET
END:STANDARD
END:VTIMEZONE
END:VCALENDAR