BEGIN:VCALENDAR
VERSION:2.0
PRODID:-//wp-events-plugin.com//7.2.3.1//EN
TZID:Europe/Paris
X-WR-TIMEZONE:Europe/Paris
BEGIN:VEVENT
UID:3962@agenda24.fr
DTSTART;TZID=Europe/Paris:20241116T200000
DTEND;TZID=Europe/Paris:20241116T210000
DTSTAMP:20241030T091320Z
URL:https://agenda24.fr/evenements/agora-carmen-nest-pas-un-opera-la-famil
 le-moralles/
SUMMARY:Agora - Carmen n'est pas un opéra ! / La famille Morallès
DESCRIPTION:
CATEGORIES:Spectacle
LOCATION:Avenue de l'Agora\, Avenue de l'Agora\, Nontron\, France
GEO:45.53153;0.66052
X-APPLE-STRUCTURED-LOCATION;VALUE=URI;X-ADDRESS=Avenue de l'Agora\, Nontron
 \, France;X-APPLE-RADIUS=100;X-TITLE=Avenue de l'Agora:geo:45.53153,0.6605
 2
END:VEVENT
BEGIN:VTIMEZONE
TZID:Europe/Paris
X-LIC-LOCATION:Europe/Paris
BEGIN:STANDARD
DTSTART:20241027T020000
TZOFFSETFROM:+0200
TZOFFSETTO:+0100
TZNAME:CET
END:STANDARD
END:VTIMEZONE
END:VCALENDAR