BEGIN:VCALENDAR
VERSION:2.0
PRODID:-//wp-events-plugin.com//7.2.3.1//EN
TZID:Europe/Paris
X-WR-TIMEZONE:Europe/Paris
BEGIN:VEVENT
UID:11834@agenda24.fr
DTSTART;TZID=Europe/Paris:20260321T143000
DTEND;TZID=Europe/Paris:20260321T160000
DTSTAMP:20260301T135157Z
URL:https://agenda24.fr/evenements/actu-patrimoine-poesie-ville-secrete/
SUMMARY:Actu Patrimoine - Poésie ville secrète
DESCRIPTION:Une déambulation poétique avec Virginie Poitrasson\, F.J. Oss
 ang\, Joël Bastard : un patrimoine inédit de la Ville de Périgueux se d
 évoile au fil des escales poétiques.\nLes poètes dialoguent avec les ar
 chitectures et les paysages traversés.\nDans le cadre du festival Expoés
 ie.\n1 h 30 | Gratuit | Réservation obligatoire\nRDV Parvis de l’églis
 e de la Cité
CATEGORIES:Tourisme / Patrimoine
LOCATION:Maison du Pâtissier\, Rue Saint Louis\, Périgueux\, France
GEO:45.1817555;0.71475192
X-APPLE-STRUCTURED-LOCATION;VALUE=URI;X-ADDRESS=Rue Saint Louis\, Périgueu
 x\, France;X-APPLE-RADIUS=100;X-TITLE=Maison du Pâtissier:geo:45.1817555,
 0.71475192
END:VEVENT
BEGIN:VTIMEZONE
TZID:Europe/Paris
X-LIC-LOCATION:Europe/Paris
BEGIN:STANDARD
DTSTART:20251026T020000
TZOFFSETFROM:+0200
TZOFFSETTO:+0100
TZNAME:CET
END:STANDARD
END:VTIMEZONE
END:VCALENDAR