BEGIN:VCALENDAR
VERSION:2.0
PRODID:-//wp-events-plugin.com//7.2.3.1//EN
TZID:Europe/Paris
X-WR-TIMEZONE:Europe/Paris
BEGIN:VEVENT
UID:11836@agenda24.fr
DTSTART;TZID=Europe/Paris:20260326T193000
DTEND;TZID=Europe/Paris:20260326T223000
DTSTAMP:20260301T135157Z
URL:https://agenda24.fr/evenements/actu-patrimoine-cine-rencontre-la-reine
 -margot/
SUMMARY:Actu Patrimoine - Ciné-rencontre : La Reine Margot
DESCRIPTION:Projection de la récente version restaurée du film de Patrice
  Chéreau de 1994\, précédée d’un propos introductif et suivie d’un
  échange en salle sur le thème : « De Marguerite de Navarre à la Reine
  Margot : l’adaptation de la légende à l’écran » avec Julie Pilorg
 et\, spécialiste d’histoire des femmes et du genre (Université de Pari
 s 8 & à Sciences Po Paris).\nEn partenariat avec Ciné-Cinéma dans le ca
 dre du Mois des droits des femmes\n3 h | Payant\, réservations auprès\nd
 e Ciné Cinéma\, tarifs de 6\,20 € à 11\,10 €\nRDV CGR - place Franc
 heville Périgueux\n(salle Ciné Cinéma)
CATEGORIES:Tourisme / Patrimoine
LOCATION:CGR Cinéma\, Place Francheville\, Périgueux\, France
GEO:45.1823635;0.7182522
X-APPLE-STRUCTURED-LOCATION;VALUE=URI;X-ADDRESS=Place Francheville\, Périg
 ueux\, France;X-APPLE-RADIUS=100;X-TITLE=CGR Cinéma:geo:45.1823635,0.7182
 522
END:VEVENT
BEGIN:VTIMEZONE
TZID:Europe/Paris
X-LIC-LOCATION:Europe/Paris
BEGIN:STANDARD
DTSTART:20251026T020000
TZOFFSETFROM:+0200
TZOFFSETTO:+0100
TZNAME:CET
END:STANDARD
END:VTIMEZONE
END:VCALENDAR