BEGIN:VCALENDAR
VERSION:2.0
PRODID:-//wp-events-plugin.com//7.2.3.1//EN
TZID:Europe/Paris
X-WR-TIMEZONE:Europe/Paris
BEGIN:VEVENT
UID:4014@agenda24.fr
DTSTART;TZID=Europe/Paris:20241129T143000
DTEND;TZID=Europe/Paris:20241129T160000
DTSTAMP:20241030T091147Z
URL:https://agenda24.fr/evenements/actu-patrimoine-a-la-recherche-de-la-pe
 rle-noire-du-perigord/
SUMMARY:Actu Patrimoine - A la recherche de la "Perle noire du Périgord"
DESCRIPTION:
CATEGORIES:Tourisme / Patrimoine
LOCATION:Maison du Pâtissier\, Rue Saint Louis\, Périgueux\, France
GEO:45.1850146;0.72166733
X-APPLE-STRUCTURED-LOCATION;VALUE=URI;X-ADDRESS=Rue Saint Louis\, Périgueu
 x\, France;X-APPLE-RADIUS=100;X-TITLE=Maison du Pâtissier:geo:45.1850146,
 0.72166733
END:VEVENT
BEGIN:VTIMEZONE
TZID:Europe/Paris
X-LIC-LOCATION:Europe/Paris
BEGIN:STANDARD
DTSTART:20241027T020000
TZOFFSETFROM:+0200
TZOFFSETTO:+0100
TZNAME:CET
END:STANDARD
END:VTIMEZONE
END:VCALENDAR