BEGIN:VCALENDAR
VERSION:2.0
PRODID:-//wp-events-plugin.com//7.2.3.1//EN
TZID:Europe/Paris
X-WR-TIMEZONE:Europe/Paris
BEGIN:VEVENT
UID:5239@agenda24.fr
DTSTART;TZID=Europe/Paris:20250302T090000
DTEND;TZID=Europe/Paris:20250302T090000
DTSTAMP:20250213T103021Z
URL:https://agenda24.fr/evenements/36eme-foire-de-larbre/
SUMMARY:36ème Foire de l'Arbre
DESCRIPTION:Dimanche 2 mars dès 9h00\, Saint-Martial-de-Nabirat accueiller
 a les professionnels de l’horticulture pour sa traditionnelle Foire de l
 ’arbre. Découverte de plantes annuelles et vivaces\, d’arbustes\, de 
 massifs\, d’arbres fruitiers\, de plantes d’intérieur et de fleurs de
  toutes espèces.\nC'est le rendez-vous immanquable des amateurs de plein 
 air et de jardinage où l’on vient flâner en famille\, entre amis tout 
 au long des stands installés dans la grande rue et sur les places.\nTout 
 au long de la journée\, les échassiers de la Compagnie « Les Effiloch
 és » déambuleront dans le village pour amuser petits et grands.\nLe Co
 nseil Départemental sera également présent avec un stand « Jardiner a
 u Naturel ». Le photographe Jérôme Hutin reviendra exposer ses photos 
 d’arbres remarquables.\nStands de crêpes\, gaufres\, paninis et boisson
 s chaudes. Formule de restauration rapide au Foyer rural (résa sur place)
 .
CATEGORIES:Marché / Foire / Brocante
LOCATION:Grand Rue\, D46\, Saint-Martial-de-Nabirat\, France
GEO:44.7444692;1.25887703
X-APPLE-STRUCTURED-LOCATION;VALUE=URI;X-ADDRESS=D46\, Saint-Martial-de-Nabi
 rat\, France;X-APPLE-RADIUS=100;X-TITLE=Grand Rue:geo:44.7444692,1.2588770
 3
END:VEVENT
BEGIN:VTIMEZONE
TZID:Europe/Paris
X-LIC-LOCATION:Europe/Paris
BEGIN:STANDARD
DTSTART:20241027T020000
TZOFFSETFROM:+0200
TZOFFSETTO:+0100
TZNAME:CET
END:STANDARD
END:VTIMEZONE
END:VCALENDAR