BEGIN:VCALENDAR
VERSION:2.0
PRODID:-//wp-events-plugin.com//7.2.3.1//EN
TZID:Europe/Paris
X-WR-TIMEZONE:Europe/Paris
BEGIN:VEVENT
UID:5965@agenda24.fr
DTSTART;TZID=Europe/Paris:20250427T090000
DTEND;TZID=Europe/Paris:20250427T180000
DTSTAMP:20250326T140643Z
URL:https://agenda24.fr/evenements/34eme-fete-aux-fleurs-au-bugue/
SUMMARY:34ème Fête aux fleurs au Bugue
DESCRIPTION:Le Comité des fêtes de la Farge organise sa 34 ème foire aux
  fleurs. Restauration sur place : jambon cuit au feu de bois. Fête forain
 e samedi et dimanche.
CATEGORIES:Marché / Foire / Brocante
LOCATION:Place du pré Saint-Louis\, rue de la Boétie\, le Bugue\, France
GEO:44.92162;0.92578
X-APPLE-STRUCTURED-LOCATION;VALUE=URI;X-ADDRESS=rue de la Boétie\, le Bugu
 e\, France;X-APPLE-RADIUS=100;X-TITLE=Place du pré Saint-Louis:geo:44.921
 62,0.92578
END:VEVENT
BEGIN:VTIMEZONE
TZID:Europe/Paris
X-LIC-LOCATION:Europe/Paris
BEGIN:DAYLIGHT
DTSTART:20250330T030000
TZOFFSETFROM:+0100
TZOFFSETTO:+0200
TZNAME:CEST
END:DAYLIGHT
END:VTIMEZONE
END:VCALENDAR