BEGIN:VCALENDAR
VERSION:2.0
PRODID:-//wp-events-plugin.com//7.2.3.1//EN
TZID:Europe/Paris
X-WR-TIMEZONE:Europe/Paris
BEGIN:VEVENT
UID:5240@agenda24.fr
DTSTART;TZID=Europe/Paris:20250223T140000
DTEND;TZID=Europe/Paris:20250223T180000
DTSTAMP:20250213T103021Z
URL:https://agenda24.fr/evenements/1er-salon-du-mariage-a-la-roche-chalais
 /
SUMMARY:1er Salon du Mariage à La Roche-Chalais
DESCRIPTION:La commune de La Roche-Chalais accueille son premier Salon du M
 ariage\nEntrée gratuite pour tous les visiteurs !\nEvénement organisé p
 ar un collectif de commerçants locaux\, qui réunira une quinzaine d’ex
 posants spécialisés dans l’univers du mariage et des grandes célébra
 tions : prêt-à-porter\, coiffure\, esthétique\, fleuristes\, animation 
 musicale\, photographie\, décoration\, et bien plus encore.\n15h30 : Un g
 rand défilé de robes de mariées.
CATEGORIES:Marché / Foire / Brocante
LOCATION:salle des fêtes\, salle des fêtes\, La Roche-Chalais\, France
GEO:45.1505803;0.01119877
X-APPLE-STRUCTURED-LOCATION;VALUE=URI;X-ADDRESS=salle des fêtes\, La Roche
 -Chalais\, France;X-APPLE-RADIUS=100;X-TITLE=salle des fêtes:geo:45.15058
 03,0.01119877
END:VEVENT
BEGIN:VTIMEZONE
TZID:Europe/Paris
X-LIC-LOCATION:Europe/Paris
BEGIN:STANDARD
DTSTART:20241027T020000
TZOFFSETFROM:+0200
TZOFFSETTO:+0100
TZNAME:CET
END:STANDARD
END:VTIMEZONE
END:VCALENDAR